BEGIN:VCALENDAR
VERSION:2.0
CALSCALE:GREGORIAN
PRODID:-//Diputació de Barcelona//DibaCMS//EN
BEGIN:VEVENT
UID:7336
DTSTAMP:20260423T094633
DTSTART:20180803T000000
DTEND:20180805T000000
SUMMARY:Festa Major de Baronia del Montseny
LOCATION:
METHOD:PUBLISH
X-WR-CALNAME:vallgorguina@vallgorguina.cat
X-WR-TIMEZONE:Europe/Madrid
DESCRIPTION:
URI:https://www.vallgorguina.cat/actualitat/agenda/festa-major-de-baronia-del-montseny.html
CLASS:PUBLIC
END:VEVENT
END:VCALENDAR
