BEGIN:VCALENDAR
VERSION:2.0
CALSCALE:GREGORIAN
PRODID:-//Diputació de Barcelona//DibaCMS//EN
BEGIN:VEVENT
UID:734
DTSTAMP:20260422T211217
DTSTART:20171222T170000
DTEND:20171222T190000
SUMMARY:“Mini Festival de Nadal” Patins de Vallgorguina
LOCATION:
METHOD:PUBLISH
X-WR-CALNAME:vallgorguina@vallgorguina.cat
X-WR-TIMEZONE:Europe/Madrid
DESCRIPTION:
URI:https://www.vallgorguina.cat/actualitat/agenda/mini-festival-de-nadal-patins-de-vallgorguina.html
CLASS:PUBLIC
END:VEVENT
END:VCALENDAR
