BEGIN:VCALENDAR
VERSION:2.0
CALSCALE:GREGORIAN
PRODID:-//Diputació de Barcelona//DibaCMS//EN
BEGIN:VEVENT
UID:7344
DTSTAMP:20260423T063929
DTSTART:20180825T213000
DTEND:20180826T000300
SUMMARY:Festa Fi d'Estiu 
LOCATION:
METHOD:PUBLISH
X-WR-CALNAME:vallgorguina@vallgorguina.cat
X-WR-TIMEZONE:Europe/Madrid
DESCRIPTION:
URI:https://www.vallgorguina.cat/actualitat/agenda/festa-fi-destiu-.html
CLASS:PUBLIC
END:VEVENT
END:VCALENDAR
