BEGIN:VCALENDAR
VERSION:2.0
CALSCALE:GREGORIAN
PRODID:-//Diputació de Barcelona//DibaCMS//EN
BEGIN:VEVENT
UID:7345
DTSTAMP:20260423T080509
DTSTART:20180804T000000
DTEND:20180805T235500
SUMMARY:Exposició Artigas 
LOCATION:
METHOD:PUBLISH
X-WR-CALNAME:vallgorguina@vallgorguina.cat
X-WR-TIMEZONE:Europe/Madrid
DESCRIPTION:
URI:https://www.vallgorguina.cat/actualitat/agenda/exposicio-artigas-.html
CLASS:PUBLIC
END:VEVENT
END:VCALENDAR
