BEGIN:VCALENDAR
VERSION:2.0
CALSCALE:GREGORIAN
PRODID:-//Diputació de Barcelona//DibaCMS//EN
BEGIN:VEVENT
UID:7346
DTSTAMP:20260423T062352
DTSTART:20180815T210000
DTEND:20180815T230000
SUMMARY:Sopar a la fresca Caliu
LOCATION:
METHOD:PUBLISH
X-WR-CALNAME:vallgorguina@vallgorguina.cat
X-WR-TIMEZONE:Europe/Madrid
DESCRIPTION:
URI:https://www.vallgorguina.cat/actualitat/agenda/sopar-a-la-fresca-caliu.html
CLASS:PUBLIC
END:VEVENT
END:VCALENDAR
