BEGIN:VCALENDAR
VERSION:2.0
CALSCALE:GREGORIAN
PRODID:-//Diputació de Barcelona//DibaCMS//EN
BEGIN:VEVENT
UID:735
DTSTAMP:20260422T230336
DTSTART:20171222T170000
DTEND:20171222T190000
SUMMARY:“Festa de Nadal” Futbol Club Vallgorguina
LOCATION:
METHOD:PUBLISH
X-WR-CALNAME:vallgorguina@vallgorguina.cat
X-WR-TIMEZONE:Europe/Madrid
DESCRIPTION:
URI:https://www.vallgorguina.cat/actualitat/agenda/festa-de-nadal-futbol-club-vallgorguina.html
CLASS:PUBLIC
END:VEVENT
END:VCALENDAR
