BEGIN:VCALENDAR
VERSION:2.0
CALSCALE:GREGORIAN
PRODID:-//Diputació de Barcelona//DibaCMS//EN
BEGIN:VEVENT
UID:7350
DTSTAMP:20260423T120213
DTSTART:20180903T100000
DTEND:20180924T170000
SUMMARY:Taller de Teatre 
LOCATION:
METHOD:PUBLISH
X-WR-CALNAME:vallgorguina@vallgorguina.cat
X-WR-TIMEZONE:Europe/Madrid
DESCRIPTION:Del 3 al 10 de setembre cada dia de 10:00 a 13:00. Del 10 al 21 de setembre els dilluns, dimecres i divendres de 16:30 a 18:30. Representació 24 de setembre a les 17:00 a la sala d'exposicions en el marc de la Festa Major. Places limitades, més informació: ampa.vallgorguina@gmail.com

 

URI:https://www.vallgorguina.cat/actualitat/agenda/taller-de-teatre-.html
CLASS:PUBLIC
END:VEVENT
END:VCALENDAR
