BEGIN:VCALENDAR
VERSION:2.0
CALSCALE:GREGORIAN
PRODID:-//Diputació de Barcelona//DibaCMS//EN
BEGIN:VEVENT
UID:7356
DTSTAMP:20260423T101206
DTSTART:20180923T110000
DTEND:20180923T140000
SUMMARY:Vine a donar sang
LOCATION:Sala d'Exposicions 
METHOD:PUBLISH
X-WR-CALNAME:vallgorguina@vallgorguina.cat
X-WR-TIMEZONE:Europe/Madrid
DESCRIPTION:Dóna el millor de tu, dóna sang

Campanya especial Festa Major

 

URI:https://www.vallgorguina.cat/actualitat/agenda/vine-a-donar-sang.html
CLASS:PUBLIC
END:VEVENT
END:VCALENDAR
