BEGIN:VCALENDAR
VERSION:2.0
CALSCALE:GREGORIAN
PRODID:-//Diputació de Barcelona//DibaCMS//EN
BEGIN:VEVENT
UID:736
DTSTAMP:20260423T080255
DTSTART:20171224T110000
DTEND:20171224T130000
SUMMARY:“Pare Noel davant del casal” Fent Pinya
LOCATION:
METHOD:PUBLISH
X-WR-CALNAME:vallgorguina@vallgorguina.cat
X-WR-TIMEZONE:Europe/Madrid
DESCRIPTION:
URI:https://www.vallgorguina.cat/actualitat/agenda/pare-noel-davant-del-casal-fent-pinya.html
CLASS:PUBLIC
END:VEVENT
END:VCALENDAR
