BEGIN:VCALENDAR
VERSION:2.0
CALSCALE:GREGORIAN
PRODID:-//Diputació de Barcelona//DibaCMS//EN
BEGIN:VEVENT
UID:7360
DTSTAMP:20260424T121209
DTSTART:20181124T000000
DTEND:20181125T000000
SUMMARY:Fira del Bosc i la Pagesia 2018
LOCATION:
METHOD:PUBLISH
X-WR-CALNAME:vallgorguina@vallgorguina.cat
X-WR-TIMEZONE:Europe/Madrid
DESCRIPTION:Informació: firadelboscilapagesia@gmail.com

Formularis i normativa

URI:https://www.vallgorguina.cat/actualitat/agenda/fira-del-bosc-i-la-pagesia-2018.html
CLASS:PUBLIC
END:VEVENT
END:VCALENDAR
