BEGIN:VCALENDAR
VERSION:2.0
CALSCALE:GREGORIAN
PRODID:-//Diputació de Barcelona//DibaCMS//EN
BEGIN:VEVENT
UID:7363
DTSTAMP:20260423T043725
DTSTART:20180915T090000
DTEND:20180915T130000
SUMMARY:Petanca
LOCATION:Plaça de la Vila 
METHOD:PUBLISH
X-WR-CALNAME:vallgorguina@vallgorguina.cat
X-WR-TIMEZONE:Europe/Madrid
DESCRIPTION:
URI:https://www.vallgorguina.cat/actualitat/agenda/petanca.html
CLASS:PUBLIC
END:VEVENT
END:VCALENDAR
