BEGIN:VCALENDAR
VERSION:2.0
CALSCALE:GREGORIAN
PRODID:-//Diputació de Barcelona//DibaCMS//EN
BEGIN:VEVENT
UID:7364
DTSTAMP:20260422T224624
DTSTART:20180915T090000
DTEND:20180915T170000
SUMMARY:6è Concurs de pintura ràpida 
LOCATION:Sala d'Exposicions 
METHOD:PUBLISH
X-WR-CALNAME:vallgorguina@vallgorguina.cat
X-WR-TIMEZONE:Europe/Madrid
DESCRIPTION:Inscripció una hora abans a la Sala d'exposicions (Casal del Poble): de 8 a 9 del matí. 

URI:https://www.vallgorguina.cat/actualitat/agenda/6e-concurs-de-pintura-rapida-.html
CLASS:PUBLIC
END:VEVENT
END:VCALENDAR
