BEGIN:VCALENDAR
VERSION:2.0
CALSCALE:GREGORIAN
PRODID:-//Diputació de Barcelona//DibaCMS//EN
BEGIN:VEVENT
UID:7365
DTSTAMP:20260423T063136
DTSTART:20180915T170000
DTEND:20180915T200000
SUMMARY:Campionat de dòmino 
LOCATION:Terrassa del Casal de la Vall 
METHOD:PUBLISH
X-WR-CALNAME:vallgorguina@vallgorguina.cat
X-WR-TIMEZONE:Europe/Madrid
DESCRIPTION:
URI:https://www.vallgorguina.cat/actualitat/agenda/campionat-de-domino-.html
CLASS:PUBLIC
END:VEVENT
END:VCALENDAR
