BEGIN:VCALENDAR
VERSION:2.0
CALSCALE:GREGORIAN
PRODID:-//Diputació de Barcelona//DibaCMS//EN
BEGIN:VEVENT
UID:7367
DTSTAMP:20260423T043651
DTSTART:20180915T180000
DTEND:20180915T210000
SUMMARY:Baixada d'andròmines acompanyats de La Batucada
LOCATION:Carrer Pi Florit i del Sol 
METHOD:PUBLISH
X-WR-CALNAME:vallgorguina@vallgorguina.cat
X-WR-TIMEZONE:Europe/Madrid
DESCRIPTION:
URI:https://www.vallgorguina.cat/actualitat/agenda/baixada-dandromines-acompanyats-de-la-batucada.html
CLASS:PUBLIC
END:VEVENT
END:VCALENDAR
