BEGIN:VCALENDAR
VERSION:2.0
CALSCALE:GREGORIAN
PRODID:-//Diputació de Barcelona//DibaCMS//EN
BEGIN:VEVENT
UID:7368
DTSTAMP:20260422T225715
DTSTART:20180915T190000
DTEND:20180915T200000
SUMMARY:Inauguració de l'Exposició d'Esteve Travesa i Blanch
LOCATION:Local ACV 
METHOD:PUBLISH
X-WR-CALNAME:vallgorguina@vallgorguina.cat
X-WR-TIMEZONE:Europe/Madrid
DESCRIPTION:
URI:https://www.vallgorguina.cat/actualitat/agenda/inauguracio-de-lexposicio-desteve-travesa-i-blanch.html
CLASS:PUBLIC
END:VEVENT
END:VCALENDAR
