BEGIN:VCALENDAR
VERSION:2.0
CALSCALE:GREGORIAN
PRODID:-//Diputació de Barcelona//DibaCMS//EN
BEGIN:VEVENT
UID:7369
DTSTAMP:20260423T044851
DTSTART:20180915T210000
DTEND:20180915T235500
SUMMARY:Concurs de truites i sopar 
LOCATION:Plaça Sant Andreu 
METHOD:PUBLISH
X-WR-CALNAME:vallgorguina@vallgorguina.cat
X-WR-TIMEZONE:Europe/Madrid
DESCRIPTION:
URI:https://www.vallgorguina.cat/actualitat/agenda/concurs-de-truites-i-sopar-.html
CLASS:PUBLIC
END:VEVENT
END:VCALENDAR
