BEGIN:VCALENDAR
VERSION:2.0
CALSCALE:GREGORIAN
PRODID:-//Diputació de Barcelona//DibaCMS//EN
BEGIN:VEVENT
UID:7372
DTSTAMP:20260423T062055
DTSTART:20180916T090000
DTEND:20180916T130000
SUMMARY:Concurs de pintura ràpida
LOCATION:
METHOD:PUBLISH
X-WR-CALNAME:vallgorguina@vallgorguina.cat
X-WR-TIMEZONE:Europe/Madrid
DESCRIPTION:
URI:https://www.vallgorguina.cat/actualitat/agenda/concurs-de-pintura-rapida.html
CLASS:PUBLIC
END:VEVENT
END:VCALENDAR
