BEGIN:VCALENDAR
VERSION:2.0
CALSCALE:GREGORIAN
PRODID:-//Diputació de Barcelona//DibaCMS//EN
BEGIN:VEVENT
UID:7373
DTSTAMP:20260423T095652
DTSTART:20180916T100000
DTEND:20180916T130000
SUMMARY:Final de dòmino
LOCATION:Terrassa del Casal de la Vall 
METHOD:PUBLISH
X-WR-CALNAME:vallgorguina@vallgorguina.cat
X-WR-TIMEZONE:Europe/Madrid
DESCRIPTION:
URI:https://www.vallgorguina.cat/actualitat/agenda/final-de-domino.html
CLASS:PUBLIC
END:VEVENT
END:VCALENDAR
