BEGIN:VCALENDAR
VERSION:2.0
CALSCALE:GREGORIAN
PRODID:-//Diputació de Barcelona//DibaCMS//EN
BEGIN:VEVENT
UID:7374
DTSTAMP:20260423T082423
DTSTART:20180916T110000
DTEND:20180916T130000
SUMMARY:Pintada de pancartes i samarretes 
LOCATION:Poliesportiu 
METHOD:PUBLISH
X-WR-CALNAME:vallgorguina@vallgorguina.cat
X-WR-TIMEZONE:Europe/Madrid
DESCRIPTION:
URI:https://www.vallgorguina.cat/actualitat/agenda/pintada-de-pancartes-i-samarretes-.html
CLASS:PUBLIC
END:VEVENT
END:VCALENDAR
