BEGIN:VCALENDAR
VERSION:2.0
CALSCALE:GREGORIAN
PRODID:-//Diputació de Barcelona//DibaCMS//EN
BEGIN:VEVENT
UID:7376
DTSTAMP:20260423T101036
DTSTART:20180916T170000
DTEND:20180916T190000
SUMMARY:Gimcana de bicicletes 
LOCATION:Plaça Sant Andreu 
METHOD:PUBLISH
X-WR-CALNAME:vallgorguina@vallgorguina.cat
X-WR-TIMEZONE:Europe/Madrid
DESCRIPTION:
URI:https://www.vallgorguina.cat/actualitat/agenda/gimcana-de-bicicletes-.html
CLASS:PUBLIC
END:VEVENT
END:VCALENDAR
