BEGIN:VCALENDAR
VERSION:2.0
CALSCALE:GREGORIAN
PRODID:-//Diputació de Barcelona//DibaCMS//EN
BEGIN:VEVENT
UID:7377
DTSTAMP:20260423T043834
DTSTART:20180916T170000
DTEND:20180916T200000
SUMMARY:Tarda boja (+18 anys)
LOCATION:Plaça de la Vila 
METHOD:PUBLISH
X-WR-CALNAME:vallgorguina@vallgorguina.cat
X-WR-TIMEZONE:Europe/Madrid
DESCRIPTION:
URI:https://www.vallgorguina.cat/actualitat/agenda/tarda-boja-18-anys.html
CLASS:PUBLIC
END:VEVENT
END:VCALENDAR
