BEGIN:VCALENDAR
VERSION:2.0
CALSCALE:GREGORIAN
PRODID:-//Diputació de Barcelona//DibaCMS//EN
BEGIN:VEVENT
UID:7378
DTSTAMP:20260423T044019
DTSTART:20180917T190000
DTEND:20180917T210000
SUMMARY:Música amb D-Question, tapes i taller de piruletes 
LOCATION:Plaça de la Vila 
METHOD:PUBLISH
X-WR-CALNAME:vallgorguina@vallgorguina.cat
X-WR-TIMEZONE:Europe/Madrid
DESCRIPTION:
URI:https://www.vallgorguina.cat/actualitat/agenda/musica-amb-d-question-tapes-i-taller-de-piruletes-.html
CLASS:PUBLIC
END:VEVENT
END:VCALENDAR
