BEGIN:VCALENDAR
VERSION:2.0
CALSCALE:GREGORIAN
PRODID:-//Diputació de Barcelona//DibaCMS//EN
BEGIN:VEVENT
UID:7379
DTSTAMP:20260422T232705
DTSTART:20180918T190000
DTEND:20180918T210000
SUMMARY:Música i tapes amb Eurybia
LOCATION:Plaça de la Vila 
METHOD:PUBLISH
X-WR-CALNAME:vallgorguina@vallgorguina.cat
X-WR-TIMEZONE:Europe/Madrid
DESCRIPTION:
URI:https://www.vallgorguina.cat/actualitat/agenda/musica-i-tapes-amb-eurybia.html
CLASS:PUBLIC
END:VEVENT
END:VCALENDAR
