BEGIN:VCALENDAR
VERSION:2.0
CALSCALE:GREGORIAN
PRODID:-//Diputació de Barcelona//DibaCMS//EN
BEGIN:VEVENT
UID:738
DTSTAMP:20260423T004224
DTSTART:20171230T110000
DTEND:20171230T130000
SUMMARY:“Festa de Nadal / Taller de Fanalets / Arribada del Patge Reial” al local de l’Associació de Veïns de Baronia del Montseny
LOCATION:
METHOD:PUBLISH
X-WR-CALNAME:vallgorguina@vallgorguina.cat
X-WR-TIMEZONE:Europe/Madrid
DESCRIPTION:
URI:https://www.vallgorguina.cat/actualitat/agenda/festa-de-nadal--taller-de-fanalets--arribada-del-patge-reial-al-local-de-lassociacio-de-veins-de-baronia-del-montseny.html
CLASS:PUBLIC
END:VEVENT
END:VCALENDAR
