BEGIN:VCALENDAR
VERSION:2.0
CALSCALE:GREGORIAN
PRODID:-//Diputació de Barcelona//DibaCMS//EN
BEGIN:VEVENT
UID:7380
DTSTAMP:20260422T231954
DTSTART:20180919T190000
DTEND:20180919T210000
SUMMARY:Música i tapes amb Midnight Ramblers
LOCATION:Plaça de la Vila 
METHOD:PUBLISH
X-WR-CALNAME:vallgorguina@vallgorguina.cat
X-WR-TIMEZONE:Europe/Madrid
DESCRIPTION:
URI:https://www.vallgorguina.cat/actualitat/agenda/musica-i-tapes-amb-midnight-ramblers.html
CLASS:PUBLIC
END:VEVENT
END:VCALENDAR
