BEGIN:VCALENDAR
VERSION:2.0
CALSCALE:GREGORIAN
PRODID:-//Diputació de Barcelona//DibaCMS//EN
BEGIN:VEVENT
UID:7382
DTSTAMP:20260423T012901
DTSTART:20180920T210000
DTEND:20180920T220000
SUMMARY:Concert amb l'acordió d'en Víctor i companyia 
LOCATION:Plaça de la Vila 
METHOD:PUBLISH
X-WR-CALNAME:vallgorguina@vallgorguina.cat
X-WR-TIMEZONE:Europe/Madrid
DESCRIPTION:
URI:https://www.vallgorguina.cat/actualitat/agenda/concert-amb-lacordio-den-victor-i-companyia-.html
CLASS:PUBLIC
END:VEVENT
END:VCALENDAR
