BEGIN:VCALENDAR
VERSION:2.0
CALSCALE:GREGORIAN
PRODID:-//Diputació de Barcelona//DibaCMS//EN
BEGIN:VEVENT
UID:7383
DTSTAMP:20260422T231914
DTSTART:20180920T213000
DTEND:20180920T230000
SUMMARY:Sopar de carmanyola de Senglars i Guillots 
LOCATION:Plaça de la Vila  
METHOD:PUBLISH
X-WR-CALNAME:vallgorguina@vallgorguina.cat
X-WR-TIMEZONE:Europe/Madrid
DESCRIPTION:
URI:https://www.vallgorguina.cat/actualitat/agenda/sopar-de-carmanyola-de-senglars-i-guillots-.html
CLASS:PUBLIC
END:VEVENT
END:VCALENDAR
