BEGIN:VCALENDAR
VERSION:2.0
CALSCALE:GREGORIAN
PRODID:-//Diputació de Barcelona//DibaCMS//EN
BEGIN:VEVENT
UID:7384
DTSTAMP:20260422T231816
DTSTART:20180921T200000
DTEND:20180921T230000
SUMMARY:Festa de la tapa i la cervesa 
LOCATION:Poliesportiu 
METHOD:PUBLISH
X-WR-CALNAME:vallgorguina@vallgorguina.cat
X-WR-TIMEZONE:Europe/Madrid
DESCRIPTION:
URI:https://www.vallgorguina.cat/actualitat/agenda/festa-de-la-tapa-i-la-cervesa-.html
CLASS:PUBLIC
END:VEVENT
END:VCALENDAR
