BEGIN:VCALENDAR
VERSION:2.0
CALSCALE:GREGORIAN
PRODID:-//Diputació de Barcelona//DibaCMS//EN
BEGIN:VEVENT
UID:7385
DTSTAMP:20260423T043945
DTSTART:20180921T230000
DTEND:20180922T003000
SUMMARY:Concert de La República Rumbera 
LOCATION:Poliesportiu 
METHOD:PUBLISH
X-WR-CALNAME:vallgorguina@vallgorguina.cat
X-WR-TIMEZONE:Europe/Madrid
DESCRIPTION:
URI:https://www.vallgorguina.cat/actualitat/agenda/concert-de-la-republica-rumbera-.html
CLASS:PUBLIC
END:VEVENT
END:VCALENDAR
