BEGIN:VCALENDAR
VERSION:2.0
CALSCALE:GREGORIAN
PRODID:-//Diputació de Barcelona//DibaCMS//EN
BEGIN:VEVENT
UID:7386
DTSTAMP:20260422T232607
DTSTART:20180921T210000
DTEND:20180921T230000
SUMMARY:Concert amb David Busquets
LOCATION:Poliesportiu  
METHOD:PUBLISH
X-WR-CALNAME:vallgorguina@vallgorguina.cat
X-WR-TIMEZONE:Europe/Madrid
DESCRIPTION:
URI:https://www.vallgorguina.cat/actualitat/agenda/concert-amb-david-busquets.html
CLASS:PUBLIC
END:VEVENT
END:VCALENDAR
