BEGIN:VCALENDAR
VERSION:2.0
CALSCALE:GREGORIAN
PRODID:-//Diputació de Barcelona//DibaCMS//EN
BEGIN:VEVENT
UID:7387
DTSTAMP:20260423T080850
DTSTART:20180921T235900
DTEND:20180922T020000
SUMMARY:DJ Ramón
LOCATION:Poliesportiu 
METHOD:PUBLISH
X-WR-CALNAME:vallgorguina@vallgorguina.cat
X-WR-TIMEZONE:Europe/Madrid
DESCRIPTION:
URI:https://www.vallgorguina.cat/actualitat/agenda/dj-ramon.html
CLASS:PUBLIC
END:VEVENT
END:VCALENDAR
