BEGIN:VCALENDAR
VERSION:2.0
CALSCALE:GREGORIAN
PRODID:-//Diputació de Barcelona//DibaCMS//EN
BEGIN:VEVENT
UID:7388
DTSTAMP:20260423T062411
DTSTART:20180922T110000
DTEND:20180922T170000
SUMMARY:Inflables 
LOCATION:Carrer del Sol 
METHOD:PUBLISH
X-WR-CALNAME:vallgorguina@vallgorguina.cat
X-WR-TIMEZONE:Europe/Madrid
DESCRIPTION:11 a 14h. i de 16 a 17h. 

URI:https://www.vallgorguina.cat/actualitat/agenda/inflables-.html
CLASS:PUBLIC
END:VEVENT
END:VCALENDAR
