BEGIN:VCALENDAR
VERSION:2.0
CALSCALE:GREGORIAN
PRODID:-//Diputació de Barcelona//DibaCMS//EN
BEGIN:VEVENT
UID:739
DTSTAMP:20260422T230757
DTSTART:20171230T193000
DTEND:20171230T210000
SUMMARY:Primer Concert de Cap d’Any de Vallgorguina amb l'Orquestra Baix Montseny a La Fàbrica
LOCATION:
METHOD:PUBLISH
X-WR-CALNAME:vallgorguina@vallgorguina.cat
X-WR-TIMEZONE:Europe/Madrid
DESCRIPTION:
URI:https://www.vallgorguina.cat/actualitat/agenda/primer-concert-de-cap-dany-de-vallgorguina-amb-lorquestra-baix-montseny-a-la-fabrica.html
CLASS:PUBLIC
END:VEVENT
END:VCALENDAR
