BEGIN:VCALENDAR
VERSION:2.0
CALSCALE:GREGORIAN
PRODID:-//Diputació de Barcelona//DibaCMS//EN
BEGIN:VEVENT
UID:7390
DTSTAMP:20260423T043909
DTSTART:20180922T130000
DTEND:20180922T140000
SUMMARY:Zumba per petits i grans
LOCATION:Poliesportiu 
METHOD:PUBLISH
X-WR-CALNAME:vallgorguina@vallgorguina.cat
X-WR-TIMEZONE:Europe/Madrid
DESCRIPTION:
URI:https://www.vallgorguina.cat/actualitat/agenda/zumba-per-petits-i-grans.html
CLASS:PUBLIC
END:VEVENT
END:VCALENDAR
