BEGIN:VCALENDAR
VERSION:2.0
CALSCALE:GREGORIAN
PRODID:-//Diputació de Barcelona//DibaCMS//EN
BEGIN:VEVENT
UID:7392
DTSTAMP:20260423T063556
DTSTART:20180922T180000
DTEND:20180922T190000
SUMMARY:Concurs de Senglars i Guillots petits 
LOCATION:Carrer del Sol 
METHOD:PUBLISH
X-WR-CALNAME:vallgorguina@vallgorguina.cat
X-WR-TIMEZONE:Europe/Madrid
DESCRIPTION:
URI:https://www.vallgorguina.cat/actualitat/agenda/concurs-de-senglars-i-guillots-petits-.html
CLASS:PUBLIC
END:VEVENT
END:VCALENDAR
