BEGIN:VCALENDAR
VERSION:2.0
CALSCALE:GREGORIAN
PRODID:-//Diputació de Barcelona//DibaCMS//EN
BEGIN:VEVENT
UID:7395
DTSTAMP:20260423T094656
DTSTART:20180922T210000
DTEND:20180922T220000
SUMMARY:Correfocs 
LOCATION:Carretera Nova  
METHOD:PUBLISH
X-WR-CALNAME:vallgorguina@vallgorguina.cat
X-WR-TIMEZONE:Europe/Madrid
DESCRIPTION:
URI:https://www.vallgorguina.cat/actualitat/agenda/correfocs-.html
CLASS:PUBLIC
END:VEVENT
END:VCALENDAR
