BEGIN:VCALENDAR
VERSION:2.0
CALSCALE:GREGORIAN
PRODID:-//Diputació de Barcelona//DibaCMS//EN
BEGIN:VEVENT
UID:7396
DTSTAMP:20260423T062555
DTSTART:20180922T220000
DTEND:20180922T233000
SUMMARY:Teatre
LOCATION:La Fàbrica 
METHOD:PUBLISH
X-WR-CALNAME:vallgorguina@vallgorguina.cat
X-WR-TIMEZONE:Europe/Madrid
DESCRIPTION:
URI:https://www.vallgorguina.cat/actualitat/agenda/teatre.html
CLASS:PUBLIC
END:VEVENT
END:VCALENDAR
