BEGIN:VCALENDAR
VERSION:2.0
CALSCALE:GREGORIAN
PRODID:-//Diputació de Barcelona//DibaCMS//EN
BEGIN:VEVENT
UID:7398
DTSTAMP:20260423T062328
DTSTART:20180923T020000
DTEND:20180923T040000
SUMMARY:Dj La nit tremenda 
LOCATION:Poliesportiu 
METHOD:PUBLISH
X-WR-CALNAME:vallgorguina@vallgorguina.cat
X-WR-TIMEZONE:Europe/Madrid
DESCRIPTION:
URI:https://www.vallgorguina.cat/actualitat/agenda/dj-la-nit-tremenda-.html
CLASS:PUBLIC
END:VEVENT
END:VCALENDAR
