BEGIN:VCALENDAR
VERSION:2.0
CALSCALE:GREGORIAN
PRODID:-//Diputació de Barcelona//DibaCMS//EN
BEGIN:VEVENT
UID:7399
DTSTAMP:20260423T062209
DTSTART:20180923T090000
DTEND:20180923T130000
SUMMARY:Copa Barcelona de bicitrial
LOCATION:Parc de bicitrial 
METHOD:PUBLISH
X-WR-CALNAME:vallgorguina@vallgorguina.cat
X-WR-TIMEZONE:Europe/Madrid
DESCRIPTION:
URI:https://www.vallgorguina.cat/actualitat/agenda/copa-barcelona-de-bicitrial.html
CLASS:PUBLIC
END:VEVENT
END:VCALENDAR
