BEGIN:VCALENDAR
VERSION:2.0
CALSCALE:GREGORIAN
PRODID:-//Diputació de Barcelona//DibaCMS//EN
BEGIN:VEVENT
UID:740
DTSTAMP:20260423T080406
DTSTART:20171231T120000
DTEND:20171231T130000
SUMMARY:Arribada del Patge Reial a la Sala d’exposicions
LOCATION:
METHOD:PUBLISH
X-WR-CALNAME:vallgorguina@vallgorguina.cat
X-WR-TIMEZONE:Europe/Madrid
DESCRIPTION:
URI:https://www.vallgorguina.cat/actualitat/agenda/arribada-del-patge-reial-a-la-sala-dexposicions.html
CLASS:PUBLIC
END:VEVENT
END:VCALENDAR
