BEGIN:VCALENDAR
VERSION:2.0
CALSCALE:GREGORIAN
PRODID:-//Diputació de Barcelona//DibaCMS//EN
BEGIN:VEVENT
UID:7401
DTSTAMP:20260423T080928
DTSTART:20180923T113000
DTEND:20180923T130000
SUMMARY:Gegants 
LOCATION:Plaça de la Vila 
METHOD:PUBLISH
X-WR-CALNAME:vallgorguina@vallgorguina.cat
X-WR-TIMEZONE:Europe/Madrid
DESCRIPTION:
URI:https://www.vallgorguina.cat/actualitat/agenda/gegants-.html
CLASS:PUBLIC
END:VEVENT
END:VCALENDAR
