BEGIN:VCALENDAR
VERSION:2.0
CALSCALE:GREGORIAN
PRODID:-//Diputació de Barcelona//DibaCMS//EN
BEGIN:VEVENT
UID:7405
DTSTAMP:20260422T193400
DTSTART:20180923T170000
DTEND:20180923T180000
SUMMARY:Sardanes 
LOCATION:Plaça Mossèn Narcís Saguer (bàscula) 
METHOD:PUBLISH
X-WR-CALNAME:vallgorguina@vallgorguina.cat
X-WR-TIMEZONE:Europe/Madrid
DESCRIPTION:
URI:https://www.vallgorguina.cat/actualitat/agenda/sardanes-.html
CLASS:PUBLIC
END:VEVENT
END:VCALENDAR
