BEGIN:VCALENDAR
VERSION:2.0
CALSCALE:GREGORIAN
PRODID:-//Diputació de Barcelona//DibaCMS//EN
BEGIN:VEVENT
UID:7406
DTSTAMP:20260422T212831
DTSTART:20180923T183000
DTEND:20180923T193000
SUMMARY:Bastoners 
LOCATION:Plaça Mossèn Narcís Saguer (bàscula) 
METHOD:PUBLISH
X-WR-CALNAME:vallgorguina@vallgorguina.cat
X-WR-TIMEZONE:Europe/Madrid
DESCRIPTION:
URI:https://www.vallgorguina.cat/actualitat/agenda/bastoners-.html
CLASS:PUBLIC
END:VEVENT
END:VCALENDAR
