BEGIN:VCALENDAR
VERSION:2.0
CALSCALE:GREGORIAN
PRODID:-//Diputació de Barcelona//DibaCMS//EN
BEGIN:VEVENT
UID:7408
DTSTAMP:20260422T212809
DTSTART:20180924T110000
DTEND:20180924T130000
SUMMARY:Espai de circ i mini-tramp
LOCATION:Plaça de la Vila  
METHOD:PUBLISH
X-WR-CALNAME:vallgorguina@vallgorguina.cat
X-WR-TIMEZONE:Europe/Madrid
DESCRIPTION:
URI:https://www.vallgorguina.cat/actualitat/agenda/espai-de-circ-i-mini-tramp.html
CLASS:PUBLIC
END:VEVENT
END:VCALENDAR
