BEGIN:VCALENDAR
VERSION:2.0
CALSCALE:GREGORIAN
PRODID:-//Diputació de Barcelona//DibaCMS//EN
BEGIN:VEVENT
UID:7409
DTSTAMP:20260422T193703
DTSTART:20180924T120000
DTEND:20180924T130000
SUMMARY:Missa solemne
LOCATION:
METHOD:PUBLISH
X-WR-CALNAME:vallgorguina@vallgorguina.cat
X-WR-TIMEZONE:Europe/Madrid
DESCRIPTION:
URI:https://www.vallgorguina.cat/actualitat/agenda/missa-solemne.html
CLASS:PUBLIC
END:VEVENT
END:VCALENDAR
