BEGIN:VCALENDAR
VERSION:2.0
CALSCALE:GREGORIAN
PRODID:-//Diputació de Barcelona//DibaCMS//EN
BEGIN:VEVENT
UID:7410
DTSTAMP:20260422T193601
DTSTART:20180924T170000
DTEND:20180924T180000
SUMMARY:Teatre amb Momo i berenar pels assistents
LOCATION:La Fàbrica 
METHOD:PUBLISH
X-WR-CALNAME:vallgorguina@vallgorguina.cat
X-WR-TIMEZONE:Europe/Madrid
DESCRIPTION:
URI:https://www.vallgorguina.cat/actualitat/agenda/teatre-amb-momo-i-berenar-pels-assistents.html
CLASS:PUBLIC
END:VEVENT
END:VCALENDAR
