BEGIN:VCALENDAR
VERSION:2.0
CALSCALE:GREGORIAN
PRODID:-//Diputació de Barcelona//DibaCMS//EN
BEGIN:VEVENT
UID:7411
DTSTAMP:20260422T193535
DTSTART:20180924T173000
DTEND:20180924T190000
SUMMARY:Màgia amb Joana Andreu
LOCATION:La Fàbrica  
METHOD:PUBLISH
X-WR-CALNAME:vallgorguina@vallgorguina.cat
X-WR-TIMEZONE:Europe/Madrid
DESCRIPTION:
URI:https://www.vallgorguina.cat/actualitat/agenda/magia-amb-joana-andreu.html
CLASS:PUBLIC
END:VEVENT
END:VCALENDAR
