BEGIN:VCALENDAR
VERSION:2.0
CALSCALE:GREGORIAN
PRODID:-//Diputació de Barcelona//DibaCMS//EN
BEGIN:VEVENT
UID:7412
DTSTAMP:20260422T190503
DTSTART:20180930T173000
DTEND:20180930T190000
SUMMARY:XXXIV Premi literari Mn. Narcís Saguer 
LOCATION:Sala de Plens de l'Ajuntament  
METHOD:PUBLISH
X-WR-CALNAME:vallgorguina@vallgorguina.cat
X-WR-TIMEZONE:Europe/Madrid
DESCRIPTION:
URI:https://www.vallgorguina.cat/actualitat/agenda/xxxiv-premi-literari-mn-narcis-saguer-.html
CLASS:PUBLIC
END:VEVENT
END:VCALENDAR
