BEGIN:VCALENDAR
VERSION:2.0
CALSCALE:GREGORIAN
PRODID:-//Diputació de Barcelona//DibaCMS//EN
BEGIN:VEVENT
UID:7414
DTSTAMP:20260423T080831
DTSTART:20180910T190000
DTEND:20180910T200000
SUMMARY:Reunió aula de música curs 2018-2019
LOCATION:Sala d'Exposicions 
METHOD:PUBLISH
X-WR-CALNAME:vallgorguina@vallgorguina.cat
X-WR-TIMEZONE:Europe/Madrid
DESCRIPTION:El curs vinent està previst donar continuïtat a les classes de música per part del Caliu. Sabem que hi ha famílies interessades en que els seus fills i filles puguin iniciar o continuar fent música i és voluntat de l’Ajuntament donar suport a aquesta iniciativa, que permet als infants gaudir d’un recurs tant ric, sense haver de desplaçar-se fora del poble.

Per tal d’informar degudament i conèixer els professors es farà una reunió el dia 6 de setembre a les 19:00h a la Sala d’Exposicions.

Preguem la vostra assistència.

URI:https://www.vallgorguina.cat/actualitat/agenda/reunio-aula-de-musica-curs-2018-2019.html
CLASS:PUBLIC
END:VEVENT
END:VCALENDAR
