BEGIN:VCALENDAR
VERSION:2.0
CALSCALE:GREGORIAN
PRODID:-//Diputació de Barcelona//DibaCMS//EN
BEGIN:VEVENT
UID:7420
DTSTAMP:20260423T083303
DTSTART:20180916T120000
DTEND:20180916T200000
SUMMARY:Exposició d'Esteve Travesa i Blanch
LOCATION:Local ACV 
METHOD:PUBLISH
X-WR-CALNAME:vallgorguina@vallgorguina.cat
X-WR-TIMEZONE:Europe/Madrid
DESCRIPTION:
URI:https://www.vallgorguina.cat/actualitat/agenda/exposicio-desteve-travesa-i-blanch.html
CLASS:PUBLIC
END:VEVENT
END:VCALENDAR
